BEGIN:VCALENDAR
VERSION:2.0
PRODID:-//104.152.168.27//NONSGML kigkonsult.se iCalcreator 2.20//
CALSCALE:GREGORIAN
METHOD:PUBLISH
X-WR-TIMEZONE:Asia/Tokyo
BEGIN:VEVENT
UID:event11126@Tokyo Gig Guide
DTSTAMP:20260420T181220Z
CATEGORIES:Progressive
DESCRIPTION:Geoff Leigh\, Shizuku Aosaki\, kanomi\, SAWADA\, Takkiduda\, Ke
 i Husimi\, more\nCategory: Progressive\nLink: https://www.tokyogigguide.co
 m/index.php?option=com_jem&view=event&id=11126:geoff-leigh-shizuku-aosaki-
 kanomi-sawada-takkiduda-kei-husimi&Itemid=1094\n
DTSTART:20141119T183000
DTEND:20141119T183000
LOCATION:Silver Elephant\,2-10-6 B1\, Kichijoji Honmachi\,Kichijoji
SUMMARY:Geoff Leigh\, Shizuku Aosaki\, kanomi\, SAWADA\, Takkiduda\, Kei Hu
 simi\, more
URL:https://www.tokyogigguide.com/index.php?option=com_jem&view=event&id=11
 126:geoff-leigh-shizuku-aosaki-kanomi-sawada-takkiduda-kei-husimi&Itemid=1
 094
END:VEVENT
END:VCALENDAR
