BEGIN:VCALENDAR
VERSION:2.0
PRODID:-//104.152.168.27//NONSGML kigkonsult.se iCalcreator 2.20//
CALSCALE:GREGORIAN
METHOD:PUBLISH
X-WR-TIMEZONE:Asia/Tokyo
BEGIN:VEVENT
UID:event10544@Tokyo Gig Guide
DTSTAMP:20260422T022504Z
CATEGORIES:Mixed Genre
DESCRIPTION:Goodbye Enemy Airship (Australia)\, デマゴーグ\, MEKARE-KARE\, glarm
  to phalta\, 切れ痔のヨーゼフ...\nCategory: Mixed Genre\nLink: https://www.tokyogi
 gguide.com/index.php?option=com_jem&view=event&id=10544:goodbye-enemy-airs
 hip-australia--mekare-kare-glarm-to-phalta-&Itemid=1094\n
DTSTART:20140923T173000
DTEND:20140923T173000
LOCATION:Bushbash\,7-28-11 Minami-Koiwa\, Edogawa-ku\,Koiwa
SUMMARY:Goodbye Enemy Airship (Australia)\, デマゴーグ\, MEKARE-KARE\, glarm to 
 phalta\, 切れ痔のヨーゼフ...
URL:https://www.tokyogigguide.com/index.php?option=com_jem&view=event&id=10
 544:goodbye-enemy-airship-australia--mekare-kare-glarm-to-phalta-&Itemid=1
 094
END:VEVENT
END:VCALENDAR
