BEGIN:VCALENDAR
VERSION:2.0
PRODID:-//104.152.168.27//NONSGML kigkonsult.se iCalcreator 2.20//
CALSCALE:GREGORIAN
METHOD:PUBLISH
X-WR-TIMEZONE:Asia/Tokyo
BEGIN:VEVENT
UID:event101@Tokyo Gig Guide
DTSTAMP:20260422T004617Z
CATEGORIES:Mixed Genre
DESCRIPTION:toe\, tokumaru shugo and the magic band\, dosh (anticon)\, more
 \nCategory: Mixed Genre\nLink: https://www.tokyogigguide.com/index.php?opt
 ion=com_jem&view=event&id=101:toe-tokumaru-shugo-and-the-magic-band-dosh-a
 nticon-more&Itemid=1094\n
DTSTART:20081019T134500
DTEND:20081019T134500
LOCATION:O-East\,2F 2-14-9 Dogenzaka\, Shibuya-ku\,Shibuya
SUMMARY:toe\, tokumaru shugo and the magic band\, dosh (anticon)\, more
URL:https://www.tokyogigguide.com/index.php?option=com_jem&view=event&id=10
 1:toe-tokumaru-shugo-and-the-magic-band-dosh-anticon-more&Itemid=1094
END:VEVENT
END:VCALENDAR
