BEGIN:VCALENDAR
VERSION:2.0
PRODID:-//104.152.168.27//NONSGML kigkonsult.se iCalcreator 2.20//
CALSCALE:GREGORIAN
METHOD:PUBLISH
X-WR-TIMEZONE:Asia/Tokyo
BEGIN:VEVENT
UID:event40075@Tokyo Gig Guide
DTSTAMP:20260423T135611Z
CATEGORIES:All Mix\, Dance\, Emo\, Hard Rock\, Indie-Rock
DESCRIPTION:Pirates Japan\, Neirra\, Igiko Pop\, Sekka\, Sonic Spring\, Buc
 kaneers\nCategory: All Mix\, Dance\, Emo\, Hard Rock\, Indie-Rock\nLink: h
 ttps://www.tokyogigguide.com/index.php?option=com_jem&view=event&id=40075:
 pirates-japan-neirra-igiko-pop-sekka-sonic-spring-buckaneers\n
DTSTART:20260425T170000
DTEND:20260425T170000
LOCATION:Gamuso\,Takuei Building 2F\, Asagaya-kita 2-12-5\,Asagaya
SUMMARY:Pirates Japan\, Neirra\, Igiko Pop\, Sekka\, Sonic Spring\, Buckane
 ers
URL:https://www.tokyogigguide.com/index.php?option=com_jem&view=event&id=40
 075:pirates-japan-neirra-igiko-pop-sekka-sonic-spring-buckaneers
END:VEVENT
BEGIN:VEVENT
UID:event40612@Tokyo Gig Guide
DTSTAMP:20260423T135611Z
CATEGORIES:Dance\, Hard Rock\, Indie-Rock\, Party\, Punk
DESCRIPTION:The Electric Cool Kids (FROM INDIA)\, Creep Down\, The Spangles
 \, Harunoko\, Mike Larry Draw\nCategory: Dance\, Hard Rock\, Indie-Rock\, 
 Party\, Punk\nLink: https://www.tokyogigguide.com/index.php?option=com_jem
 &view=event&id=40612:the-electric-cool-kids-from-india-creep-down-the-span
 gles-harunoko-mike-larry-draw\n
DTSTART:20260509T183000
DTEND:20260509T183000
LOCATION:Gamuso\,Takuei Building 2F\, Asagaya-kita 2-12-5\,Asagaya
SUMMARY:The Electric Cool Kids (FROM INDIA)\, Creep Down\, The Spangles\, H
 arunoko\, Mike Larry Draw
URL:https://www.tokyogigguide.com/index.php?option=com_jem&view=event&id=40
 612:the-electric-cool-kids-from-india-creep-down-the-spangles-harunoko-mik
 e-larry-draw
END:VEVENT
END:VCALENDAR
