BEGIN:VCALENDAR
VERSION:2.0
PRODID:-//104.152.168.27//NONSGML kigkonsult.se iCalcreator 2.20//
CALSCALE:GREGORIAN
METHOD:PUBLISH
X-WR-TIMEZONE:Asia/Tokyo
BEGIN:VEVENT
UID:event40716@Tokyo Gig Guide
DTSTAMP:20260423T110047Z
CATEGORIES:Avant garde\, Experimental\, Improvised
DESCRIPTION:Justin Remfrey (double bass) from Berlin\, Scott Jordan (shakuh
 achi\, etc.)\, Yumiko Yoshimoto (guitar\, daxophone)\nCategory: Avant gard
 e\, Experimental\, Improvised\nLink: https://www.tokyogigguide.com/index.p
 hp?option=com_jem&view=event&id=40716:justin-remfrey-double-bass-from-berl
 in-scott-jordan-shakuhachi-etc-yumiko-yoshimoto-guitar-daxophone\n
DTSTART:20260514T190000
DTEND:20260514T190000
LOCATION:space o\,Sugizaki Bld. B1\, Chihaya 4-39-5\, Toshima-ku\,Senkawa
SUMMARY:Justin Remfrey (double bass) from Berlin\, Scott Jordan (shakuhachi
 \, etc.)\, Yumiko Yoshimoto (guitar\, daxophone)
URL:https://www.tokyogigguide.com/index.php?option=com_jem&view=event&id=40
 716:justin-remfrey-double-bass-from-berlin-scott-jordan-shakuhachi-etc-yum
 iko-yoshimoto-guitar-daxophone
END:VEVENT
END:VCALENDAR
