BEGIN:VCALENDAR
VERSION:2.0
PRODID:-//104.152.168.27//NONSGML kigkonsult.se iCalcreator 2.20//
CALSCALE:GREGORIAN
METHOD:PUBLISH
X-WR-TIMEZONE:Asia/Tokyo
BEGIN:VEVENT
UID:event40689@Tokyo Gig Guide
DTSTAMP:20260423T202114Z
CATEGORIES:Improvised
DESCRIPTION:吉田隆一 + 不破大輔 DUO\nCategory: Improvised\nLink: https://www.tokyog
 igguide.com/index.php?option=com_jem&view=event&id=40689:duo\n
DTSTART:20260508T191500
DTEND:20260508T191500
LOCATION:velvetsun\,Sunrize Bldg 1F\, 3-47-21 Ogikubo\, Suginami-ku\,Ogikub
 o
SUMMARY:吉田隆一 + 不破大輔 DUO
URL:https://www.tokyogigguide.com/index.php?option=com_jem&view=event&id=40
 689:duo
END:VEVENT
END:VCALENDAR
