BEGIN:VCALENDAR
VERSION:2.0
PRODID:-//104.152.168.27//NONSGML kigkonsult.se iCalcreator 2.20//
CALSCALE:GREGORIAN
METHOD:PUBLISH
X-WR-TIMEZONE:Asia/Tokyo
BEGIN:VEVENT
UID:event40642@Tokyo Gig Guide
DTSTAMP:20260422T170215Z
CATEGORIES:Improvised
DESCRIPTION:Ayako Kanda (vo)\, Koji Ota (ds)\, Jun Numata (g\, etc) \nCateg
 ory: Improvised\nLink: https://www.tokyogigguide.com/index.php?option=com_
 jem&view=event&id=40642:ayako-kanda-vo-koji-ota-ds-jun-numata-g-etc\n
DTSTART:20260523T190000
DTEND:20260523T190000
LOCATION:Chitei\,Kita-Otsuka 1-14-6 B1\, Toshima-ku\, Tokyo\,Otsuka
SUMMARY:Ayako Kanda (vo)\, Koji Ota (ds)\, Jun Numata (g\, etc) 
URL:https://www.tokyogigguide.com/index.php?option=com_jem&view=event&id=40
 642:ayako-kanda-vo-koji-ota-ds-jun-numata-g-etc
END:VEVENT
END:VCALENDAR
