BEGIN:VCALENDAR
VERSION:2.0
PRODID:-//104.152.168.27//NONSGML kigkonsult.se iCalcreator 2.20//
CALSCALE:GREGORIAN
METHOD:PUBLISH
X-WR-TIMEZONE:Asia/Tokyo
BEGIN:VEVENT
UID:event40551@Tokyo Gig Guide
DTSTAMP:20260422T174635Z
CATEGORIES:Blues
DESCRIPTION:ITARU BAND\, Stackhouse Blues Band\, Kumi & Dirty Old Men\, BLU
 ES TRAIN\, T.K & Blues Blasters\, Sakasagawa Blues Band\nCategory: Blues\n
 Link: https://www.tokyogigguide.com/index.php?option=com_jem&view=event&id
 =40551:kamata-blues-today\n
DTSTART:20260505T150000
DTEND:20260505T150000
LOCATION:CATFISH Tokyo\,B103\, 5-30-15 Kamata\, Ota-ku\, Tokyo\,Kamata
SUMMARY:ITARU BAND\, Stackhouse Blues Band\, Kumi & Dirty Old Men\, BLUES T
 RAIN\, T.K & Blues Blasters\, Sakasagawa Blues Band
URL:https://www.tokyogigguide.com/index.php?option=com_jem&view=event&id=40
 551:kamata-blues-today
END:VEVENT
END:VCALENDAR
