BEGIN:VCALENDAR
VERSION:2.0
PRODID:-//104.152.168.27//NONSGML kigkonsult.se iCalcreator 2.20//
CALSCALE:GREGORIAN
METHOD:PUBLISH
X-WR-TIMEZONE:Asia/Tokyo
BEGIN:VEVENT
UID:event40399@Tokyo Gig Guide
DTSTAMP:20260420T094019Z
CATEGORIES:Metal\, Rock
DESCRIPTION:Incantation\, Defiled\nCategory: Metal\, Rock\nLink: https://ww
 w.tokyogigguide.com/index.php?option=com_jem&view=event&id=40399:incantati
 on-defiled\n
DTSTART:20260609T180000
DTEND:20260609T180000
LOCATION:HOLIDAY SHINJUKU\,Shinjuku
SUMMARY:Incantation\, Defiled
URL:https://www.tokyogigguide.com/index.php?option=com_jem&view=event&id=40
 399:incantation-defiled
END:VEVENT
END:VCALENDAR
