BEGIN:VCALENDAR
VERSION:2.0
PRODID:-//104.152.168.27//NONSGML kigkonsult.se iCalcreator 2.20//
CALSCALE:GREGORIAN
METHOD:PUBLISH
X-WR-TIMEZONE:Asia/Tokyo
BEGIN:VEVENT
UID:event40323@Tokyo Gig Guide
DTSTAMP:20260422T173720Z
CATEGORIES:Alternative\, Electronic\, Experimental\, Festival\, Improvised
DESCRIPTION:MIYAMELO\, Risa Takeda\, Eri Itonaga\, Momose Yasunaga\, MISOLA
 \nCategory: Alternative\, Electronic\, Experimental\, Festival\, Improvise
 d\nLink: https://www.tokyogigguide.com/index.php?option=com_jem&view=event
 &id=40323:miyamelo-risa-takeda-eri-itonaga-momose-yasunaga-misola\n
DTSTART:20260505T190000
DTEND:20260505T190000
LOCATION:POLARIS\,6-2-10 Minami-Aoyama\, Minato-ku\, Tokyo\,Minami-Aoyama
SUMMARY:MIYAMELO\, Risa Takeda\, Eri Itonaga\, Momose Yasunaga\, MISOLA
URL:https://www.tokyogigguide.com/index.php?option=com_jem&view=event&id=40
 323:miyamelo-risa-takeda-eri-itonaga-momose-yasunaga-misola
END:VEVENT
END:VCALENDAR
