BEGIN:VCALENDAR
VERSION:2.0
PRODID:-//104.152.168.27//NONSGML kigkonsult.se iCalcreator 2.20//
CALSCALE:GREGORIAN
METHOD:PUBLISH
X-WR-TIMEZONE:Asia/Tokyo
BEGIN:VEVENT
UID:event40180@Tokyo Gig Guide
DTSTAMP:20260423T230625Z
CATEGORIES:Experimental
DESCRIPTION:Lawrence English & Takashi Makino\, Carl Stone & ASUNA\nCategor
 y: Experimental\nLink: https://www.tokyogigguide.com/index.php?option=com_
 jem&view=event&id=40180:lawrence-english-takashi-makino-carl-stone-asuna\n
DTSTART:20260508T183000
DTEND:20260508T183000
SUMMARY:Lawrence English & Takashi Makino\, Carl Stone & ASUNA
URL:https://www.tokyogigguide.com/index.php?option=com_jem&view=event&id=40
 180:lawrence-english-takashi-makino-carl-stone-asuna
END:VEVENT
END:VCALENDAR
