BEGIN:VCALENDAR
VERSION:2.0
PRODID:-//104.152.168.27//NONSGML kigkonsult.se iCalcreator 2.20//
CALSCALE:GREGORIAN
METHOD:PUBLISH
X-WR-TIMEZONE:Asia/Tokyo
BEGIN:VEVENT
UID:event39884@Tokyo Gig Guide
DTSTAMP:20260423T062655Z
CATEGORIES:Jazz
DESCRIPTION:Kazuhiro Bessho (Pf key)\, Atsushi Inoue (Pf key)\nCategory: Ja
 zz\nLink: https://www.tokyogigguide.com/index.php?option=com_jem&view=even
 t&id=39884:kazuhiro-bessho-pf-key-soshi-inoue-pf-key\n
DTSTART:20260318T190000
DTEND:20260318T190000
LOCATION:POLARIS\,6-2-10 Minami-Aoyama\, Minato-ku\, Tokyo\,Minami-Aoyama
SUMMARY:Kazuhiro Bessho (Pf key)\, Atsushi Inoue (Pf key)
URL:https://www.tokyogigguide.com/index.php?option=com_jem&view=event&id=39
 884:kazuhiro-bessho-pf-key-soshi-inoue-pf-key
END:VEVENT
END:VCALENDAR
