BEGIN:VCALENDAR
VERSION:2.0
PRODID:-//104.152.168.27//NONSGML kigkonsult.se iCalcreator 2.20//
CALSCALE:GREGORIAN
METHOD:PUBLISH
X-WR-TIMEZONE:Asia/Tokyo
BEGIN:VEVENT
UID:event39667@Tokyo Gig Guide
DTSTAMP:20260422T110752Z
CATEGORIES:New Wave\, Psychedelic\, Punk\, Rock\, Rock n Roll
DESCRIPTION:Sister Paul\, futenzoku\, Tarah Kikuchi with Strange Bedfellows
 \nCategory: New Wave\, Psychedelic\, Punk\, Rock\, Rock n Roll\nLink: http
 s://www.tokyogigguide.com/index.php?option=com_jem&view=event&id=39667:sis
 ter-paul\n
DTSTART:20260430T190000
DTEND:20260430T190000
LOCATION:Club Que\,BigBen Building B2F\, 2-5-2 Kitazawa\,Shimokitazawa
SUMMARY:Sister Paul\, futenzoku\, Tarah Kikuchi with Strange Bedfellows
URL:https://www.tokyogigguide.com/index.php?option=com_jem&view=event&id=39
 667:sister-paul
END:VEVENT
END:VCALENDAR
